BEGIN:VCALENDAR
VERSION:2.0
PRODID:-//Plone.org//NONSGML plone.app.event//EN
X-WR-TIMEZONE:US/Central
BEGIN:VEVENT
SUMMARY:UPLINK presentation
DTSTART;TZID=US/Central:20220812T100000
DTEND;TZID=US/Central:20220813T160000
DTSTAMP:20260423T074713Z
UID:6df4b10405544344a53b5c00e5f06c91@saas_stack_varnish:6080
CONTACT:Library Director\, 906-753-6923
CREATED:20220803T183449Z
DESCRIPTION:The Upper Peninsula Digital Network (UPLINK) will present a tw
 o-day public event at the library. Guest speaker Jodi Perras\, online blog
 ger of Minnie's Diary\, will be speaking on August 12th at 11 am.  See pos
 ter for added details regarding this event.
LAST-MODIFIED:20220804T151536Z
URL:https://menominee.ploud.net/news-events/events/uplink-presentation
END:VEVENT
BEGIN:VTIMEZONE
TZID:US/Central
X-LIC-LOCATION:US/Central
BEGIN:DAYLIGHT
DTSTART:20220313T030000
TZNAME:CDT
TZOFFSETFROM:-0600
TZOFFSETTO:-0500
END:DAYLIGHT
END:VTIMEZONE
END:VCALENDAR
