BEGIN:VCALENDAR
VERSION:2.0
PRODID:-//Plone.org//NONSGML plone.app.event//EN
X-WR-TIMEZONE:US/Central
BEGIN:VEVENT
SUMMARY:Summer Reading
DTSTART;TZID=US/Central:20240809T100000
DTEND;TZID=US/Central:20240809T110000
DTSTAMP:20260423T061924Z
UID:db5d6193f1d54fc694db25fe040dbb67@saas_stack_varnish:6080
CONTACT:Heather Harris\, 9063524111\, hharris@menomineecountylibrary.org
CREATED:20240619T163531Z
DESCRIPTION:Adventure Begins At Your Library! Joins every other week for A
 dventure themed fun at the Menominee County Library! Sign up today!
LAST-MODIFIED:20240619T163542Z
LOCATION:Menominee County Library
URL:https://menominee.ploud.net/news-events/events/summer-reading/2024-08-
 09
END:VEVENT
BEGIN:VTIMEZONE
TZID:US/Central
X-LIC-LOCATION:US/Central
BEGIN:DAYLIGHT
DTSTART:20240310T030000
TZNAME:CDT
TZOFFSETFROM:-0600
TZOFFSETTO:-0500
END:DAYLIGHT
END:VTIMEZONE
END:VCALENDAR
