BEGIN:VCALENDAR
VERSION:2.0
PRODID:-//Plone.org//NONSGML plone.app.event//EN
X-WR-TIMEZONE:US/Central
BEGIN:VEVENT
SUMMARY:Library in Bloom
DTSTART;TZID=US/Central:20220604T090000
DTEND;TZID=US/Central:20220604T150000
DTSTAMP:20260423T073647Z
UID:fad99a6fa6464742846fdb2f8cfd39df@saas_stack_varnish:6080
CONTACT:Amanda Winnicki\, 906-753-6923\, awinnicki@menomineecountylibrary.
 org
CREATED:20220316T163857Z
DESCRIPTION:This event is the Friends of the Menominee County Library annu
 al plant sale fundraiser.  Plants and garden items can be purchased.  Loca
 l artists and craft vendors will also be at the event. There will be music
  and activities too. It is held outside in front of the Menominee County L
 ibrary in Stephenson.
LAST-MODIFIED:20220428T153157Z
LOCATION:Stephenson\, Michigan
URL:https://menominee.ploud.net/news-events/events/library-in-bloom
END:VEVENT
BEGIN:VTIMEZONE
TZID:US/Central
X-LIC-LOCATION:US/Central
BEGIN:DAYLIGHT
DTSTART:20220313T030000
TZNAME:CDT
TZOFFSETFROM:-0600
TZOFFSETTO:-0500
END:DAYLIGHT
END:VTIMEZONE
END:VCALENDAR
