BEGIN:VCALENDAR
VERSION:2.0
PRODID:-//Plone.org//NONSGML plone.app.event//EN
X-WR-TIMEZONE:US/Central
BEGIN:VEVENT
SUMMARY:Library in Bloom plant sale
DTSTART;TZID=US/Central:20230603T090000
DTEND;TZID=US/Central:20230603T140000
DTSTAMP:20260423T075517Z
UID:192e37af326344f591661b66f2d2218d@saas_stack_varnish:6080
CONTACT:906-352-4111
CREATED:20230524T163435Z
DESCRIPTION:Held at Menominee County Library in Stephenson\, MI\, on Satur
 day June 3rd\, from 9 am to 2 pm.
LAST-MODIFIED:20230524T164022Z
LOCATION:In front of Menominee County Library\, Stephenson\, MI
URL:https://menominee.ploud.net/news-events/events/library-in-bloom-plant-
 sale
END:VEVENT
BEGIN:VTIMEZONE
TZID:US/Central
X-LIC-LOCATION:US/Central
BEGIN:DAYLIGHT
DTSTART:20230312T030000
TZNAME:CDT
TZOFFSETFROM:-0600
TZOFFSETTO:-0500
END:DAYLIGHT
END:VTIMEZONE
END:VCALENDAR
