BEGIN:VCALENDAR
VERSION:2.0
PRODID:-//Plone.org//NONSGML plone.app.event//EN
X-WR-TIMEZONE:US/Central
BEGIN:VEVENT
SUMMARY:Friends of the Library Meeting
DTSTART;TZID=US/Central:20211005T103000
DTEND;TZID=US/Central:20211005T113000
DTSTAMP:20260423T093317Z
UID:a674f86ef61e46fab1a104973117a0aa@saas_stack_varnish:6080
CONTACT:Nancy Tuinstra\, 1-715-923-4914
CREATED:20210924T183938Z
LAST-MODIFIED:20211001T203217Z
LOCATION:Hayward Room- Menominee County Library
URL:https://menominee.ploud.net/news-events/events/friends-of-the-library-
 meeting
END:VEVENT
BEGIN:VTIMEZONE
TZID:US/Central
X-LIC-LOCATION:US/Central
BEGIN:DAYLIGHT
DTSTART:20210314T030000
TZNAME:CDT
TZOFFSETFROM:-0600
TZOFFSETTO:-0500
END:DAYLIGHT
END:VTIMEZONE
END:VCALENDAR
