BEGIN:VCALENDAR
VERSION:2.0
PRODID:-//Plone.org//NONSGML plone.app.event//EN
X-WR-TIMEZONE:US/Central
BEGIN:VEVENT
SUMMARY:Closed for Veterans Day
DTSTART;VALUE=DATE:20231111
DTEND;VALUE=DATE:20231112
DTSTAMP:20260423T061840Z
UID:a787cc7a4fd644bf8d53262be1c7dd24@saas_stack_varnish:6080
CATEGORIES:closed
CREATED:20200908T181116Z
DESCRIPTION:The library will be closed in observation of Veterans Day\, Sa
 turday November 11th.
LAST-MODIFIED:20231026T213614Z
LOCATION:Menominee County Library
URL:https://menominee.ploud.net/news-events/events/closed-for-veterans-day
END:VEVENT
END:VCALENDAR
