BEGIN:VCALENDAR
VERSION:2.0
PRODID:-//Plone.org//NONSGML plone.app.event//EN
X-WR-TIMEZONE:US/Central
BEGIN:VEVENT
SUMMARY:Closed for the Christmas Holiday
DTSTART;VALUE=DATE:20221226
DTEND;VALUE=DATE:20221227
DTSTAMP:20260423T075425Z
UID:2a60cee47daf40a9ad7886c2d9e4244c@saas_stack_varnish:6080
CREATED:20221208T225439Z
LAST-MODIFIED:20221208T225706Z
URL:https://menominee.ploud.net/news-events/events/closed-for-the-holiday
END:VEVENT
END:VCALENDAR
