BEGIN:VCALENDAR
VERSION:2.0
PRODID:-//Plone.org//NONSGML plone.app.event//EN
X-WR-TIMEZONE:US/Central
BEGIN:VEVENT
SUMMARY:Closed for New Year's
DTSTART;VALUE=DATE:20291231
DTEND;VALUE=DATE:20300102
DTSTAMP:20260423T075818Z
UID:faa96ee8c6234853a04a7392ab6c6bcd@saas_stack_varnish:6080
CATEGORIES:closed
CREATED:20191022T153049Z
DESCRIPTION:Happy new year!
LAST-MODIFIED:20201208T170042Z
URL:https://menominee.ploud.net/news-events/events/closed-for-new-years/20
 29-12-31
END:VEVENT
END:VCALENDAR
