BEGIN:VCALENDAR
VERSION:2.0
PRODID:-//Plone.org//NONSGML plone.app.event//EN
X-WR-TIMEZONE:US/Central
BEGIN:VEVENT
SUMMARY:Closed for Good Friday
DTSTART;VALUE=DATE:20210402
DTEND;VALUE=DATE:20210403
DTSTAMP:20260423T075038Z
UID:227bfd70ac8f4e2fb146de6a86cf7c75@saas_stack_varnish:6080
CATEGORIES:closed
CREATED:20200908T182818Z
DESCRIPTION:We will be closed Friday\, April 2nd in observation of Good Fr
 iday.
LAST-MODIFIED:20200908T183501Z
URL:https://menominee.ploud.net/news-events/events/closed-for-good-friday
END:VEVENT
END:VCALENDAR
