BEGIN:VCALENDAR
VERSION:2.0
PRODID:-//Plone.org//NONSGML plone.app.event//EN
X-WR-TIMEZONE:US/Central
BEGIN:VEVENT
SUMMARY:Closed
DTSTART;VALUE=DATE:20250705
DTEND;VALUE=DATE:20250706
DTSTAMP:20260423T060202Z
UID:d0b45fbe2234401396231fe84f8f9c30@saas_stack_varnish:6080
CREATED:20250626T144245Z
DESCRIPTION:Closed for 4th of July Weekend
LAST-MODIFIED:20250626T144254Z
URL:https://menominee.ploud.net/news-events/closed
END:VEVENT
END:VCALENDAR
